BEGIN:VCALENDAR
VERSION:2.0
PRODID:-//The Expandable Brass Band - ECPv6.15.20//NONSGML v1.0//EN
CALSCALE:GREGORIAN
METHOD:PUBLISH
X-ORIGINAL-URL:https://www.expandablebrassband.com
X-WR-CALDESC:Events for The Expandable Brass Band
REFRESH-INTERVAL;VALUE=DURATION:PT1H
X-Robots-Tag:noindex
X-PUBLISHED-TTL:PT1H
BEGIN:VTIMEZONE
TZID:America/New_York
BEGIN:DAYLIGHT
TZOFFSETFROM:-0500
TZOFFSETTO:-0400
TZNAME:EDT
DTSTART:20240310T070000
END:DAYLIGHT
BEGIN:STANDARD
TZOFFSETFROM:-0400
TZOFFSETTO:-0500
TZNAME:EST
DTSTART:20241103T060000
END:STANDARD
BEGIN:DAYLIGHT
TZOFFSETFROM:-0500
TZOFFSETTO:-0400
TZNAME:EDT
DTSTART:20250309T070000
END:DAYLIGHT
BEGIN:STANDARD
TZOFFSETFROM:-0400
TZOFFSETTO:-0500
TZNAME:EST
DTSTART:20251102T060000
END:STANDARD
BEGIN:DAYLIGHT
TZOFFSETFROM:-0500
TZOFFSETTO:-0400
TZNAME:EDT
DTSTART:20260308T070000
END:DAYLIGHT
BEGIN:STANDARD
TZOFFSETFROM:-0400
TZOFFSETTO:-0500
TZNAME:EST
DTSTART:20261101T060000
END:STANDARD
END:VTIMEZONE
BEGIN:VEVENT
DTSTART;TZID=America/New_York:20251207T090000
DTEND;TZID=America/New_York:20251207T224500
DTSTAMP:20260423T121428
CREATED:20251030T153219Z
LAST-MODIFIED:20251030T153219Z
UID:5824-1765098000-1765147500@www.expandablebrassband.com
SUMMARY:Hot Chocolate Run 2025 for Safe Passage
DESCRIPTION:The Hot Chocolate Run is a community celebration of Safe Passage\, the Hampshire County organization addressing domestic violence.
URL:https://www.expandablebrassband.com/event/hot-chocolate-run-2025-for-safe-passage/
LOCATION:Corner of Crafts Ave. and Old South\, Northampton MA\, Corner of Crafts Ave. and Old South\, Northampton\, MA\, United States
END:VEVENT
BEGIN:VEVENT
DTSTART;TZID=America/New_York:20251221T133000
DTEND;TZID=America/New_York:20251221T153000
DTSTAMP:20260423T121428
CREATED:20251126T171059Z
LAST-MODIFIED:20251126T171339Z
UID:5860-1766323800-1766331000@www.expandablebrassband.com
SUMMARY:First Night Rehearsal 12.21
DESCRIPTION:From 1:30-3:30pm. \nRehearsals are open to the public and potential band members. \nAlways check this page the day of the event for any last minute changes to the location. \n\nWe will rehearse in the band room. There are certain guidelines the school is requesting us to follow\, which we can go over at rehearsal\, such as not playing their piano or disturbing their equipment. \nNOTE: The only entrance that will be unlocked at the school is at the Aquatics Center (details on that exact location to follow).
URL:https://www.expandablebrassband.com/event/first-night-rehearsal-12-21/
LOCATION:JFK Middle School\, 100 Bridge Road\, Florence\, MA\, 100 Bridge Road\, Florence\, MA\, United States
END:VEVENT
BEGIN:VEVENT
DTSTART;TZID=America/New_York:20251231T140000
DTEND;TZID=America/New_York:20251231T154500
DTSTAMP:20260423T121428
CREATED:20251116T015124Z
LAST-MODIFIED:20251203T021444Z
UID:5837-1767189600-1767195900@www.expandablebrassband.com
SUMMARY:First Night Northampton
DESCRIPTION:Pulaski Park and parade from 2-2:45pm \nNorthampton Center for the Arts at 33 Hawley Street from 3-3:45pm \nParade to 33 Hawley Street \nLater that afternoon at 33 Hawley Street
URL:https://www.expandablebrassband.com/event/first-night-northampton/
LOCATION:Northampton Arts\, 33 Hawley Street\, Northampton\, MA\, United States
END:VEVENT
END:VCALENDAR