BEGIN:VCALENDAR
VERSION:2.0
PRODID:-//The Expandable Brass Band - ECPv6.15.20//NONSGML v1.0//EN
CALSCALE:GREGORIAN
METHOD:PUBLISH
X-WR-CALNAME:The Expandable Brass Band
X-ORIGINAL-URL:https://www.expandablebrassband.com
X-WR-CALDESC:Events for The Expandable Brass Band
REFRESH-INTERVAL;VALUE=DURATION:PT1H
X-Robots-Tag:noindex
X-PUBLISHED-TTL:PT1H
BEGIN:VTIMEZONE
TZID:America/New_York
BEGIN:DAYLIGHT
TZOFFSETFROM:-0500
TZOFFSETTO:-0400
TZNAME:EDT
DTSTART:20240310T070000
END:DAYLIGHT
BEGIN:STANDARD
TZOFFSETFROM:-0400
TZOFFSETTO:-0500
TZNAME:EST
DTSTART:20241103T060000
END:STANDARD
BEGIN:DAYLIGHT
TZOFFSETFROM:-0500
TZOFFSETTO:-0400
TZNAME:EDT
DTSTART:20250309T070000
END:DAYLIGHT
BEGIN:STANDARD
TZOFFSETFROM:-0400
TZOFFSETTO:-0500
TZNAME:EST
DTSTART:20251102T060000
END:STANDARD
BEGIN:DAYLIGHT
TZOFFSETFROM:-0500
TZOFFSETTO:-0400
TZNAME:EDT
DTSTART:20260308T070000
END:DAYLIGHT
BEGIN:STANDARD
TZOFFSETFROM:-0400
TZOFFSETTO:-0500
TZNAME:EST
DTSTART:20261101T060000
END:STANDARD
END:VTIMEZONE
BEGIN:VEVENT
DTSTART;TZID=America/New_York:20250906T140000
DTEND;TZID=America/New_York:20250906T150000
DTSTAMP:20260423T162550
CREATED:20250718T131045Z
LAST-MODIFIED:20250718T131045Z
UID:5652-1757167200-1757170800@www.expandablebrassband.com
SUMMARY:Franklin County Fair
DESCRIPTION:Short parade and set under tent.
URL:https://www.expandablebrassband.com/event/franklin-county-fair/
LOCATION:Greenfield County Fair\, 89 Wisdom Way\, Greenfield\, MA\, United States
END:VEVENT
BEGIN:VEVENT
DTSTART;TZID=America/New_York:20250907T130000
DTEND;TZID=America/New_York:20250907T163000
DTSTAMP:20260423T162550
CREATED:20250721T180657Z
LAST-MODIFIED:20250802T025719Z
UID:5656-1757250000-1757262600@www.expandablebrassband.com
SUMMARY:Kayak-a-thon All Out Adventures (AOA)
DESCRIPTION:The Lady Bea Riverboat will be accompanying our flotilla to the docks in Northampton while the Expandable Brass Band brings their joyful\, New Orleans style jazz to the river from the top deck.  10 spots available! \nLearn More and buy your ticket here
URL:https://www.expandablebrassband.com/event/kayak-a-thon-all-out-adventures-aoa/
LOCATION:Mitch’s Marina\, 2 Mitchs Way\, Hadley\, MA\, 01035\, United States
END:VEVENT
BEGIN:VEVENT
DTSTART;TZID=America/New_York:20250920T113000
DTEND;TZID=America/New_York:20250920T124500
DTSTAMP:20260423T162550
CREATED:20250708T123848Z
LAST-MODIFIED:20250708T124030Z
UID:5616-1758367800-1758372300@www.expandablebrassband.com
SUMMARY:Doozy-Do Parade
DESCRIPTION:Northampton Neighbors Doozy-Do Parade is a joyful inclusive celebration bringing awareness of Northampton Neighbors and their social mission to help local seniors age gracefully in place.
URL:https://www.expandablebrassband.com/event/doozy-do-parade/
LOCATION:Downtown Northampton\, Northampton\, MA\, 01060\, United States
END:VEVENT
BEGIN:VEVENT
DTSTART;TZID=America/New_York:20250921T133000
DTEND;TZID=America/New_York:20250921T150000
DTSTAMP:20260423T162550
CREATED:20250708T123411Z
LAST-MODIFIED:20250708T203731Z
UID:5610-1758461400-1758466800@www.expandablebrassband.com
SUMMARY:Will Bike for Food
DESCRIPTION:We are performing at Will Bike for Food in Hatfield\, MA.
URL:https://www.expandablebrassband.com/event/will-bike-for-food/
LOCATION:Lion’s Club Pavilion\, 15 Billings Way\, Hatfield\, MA\, 01038\, United States
END:VEVENT
BEGIN:VEVENT
DTSTART;TZID=America/New_York:20250927T113000
DTEND;TZID=America/New_York:20250927T123000
DTSTAMP:20260423T162550
CREATED:20250708T125638Z
LAST-MODIFIED:20250708T125638Z
UID:5624-1758972600-1758976200@www.expandablebrassband.com
SUMMARY:Northampton Jazz Festival
DESCRIPTION:We will be helping to kick off the Northampton Jazz Festival.
URL:https://www.expandablebrassband.com/event/northampton-jazz-festival/
LOCATION:MA
END:VEVENT
BEGIN:VEVENT
DTSTART;TZID=America/New_York:20250928T130000
DTEND;TZID=America/New_York:20250928T153000
DTSTAMP:20260423T162550
CREATED:20250820T145211Z
LAST-MODIFIED:20250820T145426Z
UID:5713-1759064400-1759073400@www.expandablebrassband.com
SUMMARY:Tapestry Health Walk for Every Body
DESCRIPTION:The “Walk for Every Body” will begin at Strong Avenue in Northampton\, then it will proceed down Main Street\, State Street\, Center Street\, and loop back to the finish line on Strong Ave. \nThis event will be a culmination and celebration of our fundraiser to raise critical funds to support Tapestry’s ability to provide accessible healthcare to the community in a time when the community needs care more than ever before. There will also be a harm reduction mobile van at the event\, and Tapestry will be providing free STI testing to the community.
URL:https://www.expandablebrassband.com/event/walk-for-every-body/
LOCATION:Downtown Northampton\, Northampton\, MA\, 01060\, United States
END:VEVENT
END:VCALENDAR