BEGIN:VCALENDAR
VERSION:2.0
PRODID:-//The Expandable Brass Band - ECPv6.15.20//NONSGML v1.0//EN
CALSCALE:GREGORIAN
METHOD:PUBLISH
X-WR-CALNAME:The Expandable Brass Band
X-ORIGINAL-URL:https://www.expandablebrassband.com
X-WR-CALDESC:Events for The Expandable Brass Band
REFRESH-INTERVAL;VALUE=DURATION:PT1H
X-Robots-Tag:noindex
X-PUBLISHED-TTL:PT1H
BEGIN:VTIMEZONE
TZID:America/New_York
BEGIN:DAYLIGHT
TZOFFSETFROM:-0500
TZOFFSETTO:-0400
TZNAME:EDT
DTSTART:20240310T070000
END:DAYLIGHT
BEGIN:STANDARD
TZOFFSETFROM:-0400
TZOFFSETTO:-0500
TZNAME:EST
DTSTART:20241103T060000
END:STANDARD
BEGIN:DAYLIGHT
TZOFFSETFROM:-0500
TZOFFSETTO:-0400
TZNAME:EDT
DTSTART:20250309T070000
END:DAYLIGHT
BEGIN:STANDARD
TZOFFSETFROM:-0400
TZOFFSETTO:-0500
TZNAME:EST
DTSTART:20251102T060000
END:STANDARD
BEGIN:DAYLIGHT
TZOFFSETFROM:-0500
TZOFFSETTO:-0400
TZNAME:EDT
DTSTART:20260308T070000
END:DAYLIGHT
BEGIN:STANDARD
TZOFFSETFROM:-0400
TZOFFSETTO:-0500
TZNAME:EST
DTSTART:20261101T060000
END:STANDARD
END:VTIMEZONE
BEGIN:VEVENT
DTSTART;TZID=America/New_York:20250730T120000
DTEND;TZID=America/New_York:20250730T140000
DTSTAMP:20260423T174504
CREATED:20250708T121833Z
LAST-MODIFIED:20250708T122427Z
UID:5602-1753876800-1753884000@www.expandablebrassband.com
SUMMARY:Springfield Museums
DESCRIPTION:We are performing at a community\, family-friendly event at the Springfield Museums – free with museum admission. 
URL:https://www.expandablebrassband.com/event/springfield-museums/
LOCATION:Springfield Museums\, 21 Edwards Street\, Springfield\, MA\, 01103\, United States
END:VEVENT
BEGIN:VEVENT
DTSTART;TZID=America/New_York:20250727T133000
DTEND;TZID=America/New_York:20250727T153000
DTSTAMP:20260423T174504
CREATED:20250724T163540Z
LAST-MODIFIED:20250727T023008Z
UID:5668-1753623000-1753630200@www.expandablebrassband.com
SUMMARY:Rehearsal July 27th
DESCRIPTION:From 1:30-3:30pm. \nRehearsals are open to the public and potential band members. \nAlways check this page the day of the event for any last minute changes to the location.
URL:https://www.expandablebrassband.com/event/rehearsal-july-27th/
LOCATION:Lot 22 UMASS\, Lot 22\, Amherst\, MA\, 01002\, United States
END:VEVENT
BEGIN:VEVENT
DTSTART;TZID=America/New_York:20250720T133000
DTEND;TZID=America/New_York:20250720T153000
DTSTAMP:20260423T174504
CREATED:20250712T172522Z
LAST-MODIFIED:20250715T143709Z
UID:5641-1753018200-1753025400@www.expandablebrassband.com
SUMMARY:Rehearsal\, July 20th\, 1:30-3:30pm
DESCRIPTION:From 1:30-3:30pm. \nRehearsals are open to the public and potential band members.
URL:https://www.expandablebrassband.com/event/rehearsal-july-20th-130-330pm/
LOCATION:Lot 22 UMASS\, Lot 22\, Amherst\, MA\, 01002\, United States
END:VEVENT
BEGIN:VEVENT
DTSTART;TZID=America/New_York:20250713T121500
DTEND;TZID=America/New_York:20250713T131500
DTSTAMP:20260423T174504
CREATED:20250708T122616Z
LAST-MODIFIED:20250708T122616Z
UID:5607-1752408900-1752412500@www.expandablebrassband.com
SUMMARY:Downtown Northampton Block Party
DESCRIPTION:  \nWe are performing at the Downtown Northampton Block Party on Main Street.
URL:https://www.expandablebrassband.com/event/downtown-northampton-block-party/
LOCATION:Downtown Northampton Block Party\, Main Street\, Northampton\, MA\, 01060\, United States
END:VEVENT
BEGIN:VEVENT
DTSTART;TZID=America/New_York:20250427T110000
DTEND;TZID=America/New_York:20250427T120000
DTSTAMP:20260423T174504
CREATED:20250708T124318Z
LAST-MODIFIED:20250708T124318Z
UID:5621-1745751600-1745755200@www.expandablebrassband.com
SUMMARY:Big Brothers / Big Sisters Daffodil Run
DESCRIPTION: 
URL:https://www.expandablebrassband.com/event/big-brothers-big-sisters-daffodil-run/
LOCATION:Amherst Common\, Amherst\, MA\, 01002\, United States
END:VEVENT
END:VCALENDAR