BEGIN:VCALENDAR
VERSION:2.0
PRODID:-//The Expandable Brass Band - ECPv6.15.20//NONSGML v1.0//EN
CALSCALE:GREGORIAN
METHOD:PUBLISH
X-ORIGINAL-URL:https://www.expandablebrassband.com
X-WR-CALDESC:Events for The Expandable Brass Band
REFRESH-INTERVAL;VALUE=DURATION:PT1H
X-Robots-Tag:noindex
X-PUBLISHED-TTL:PT1H
BEGIN:VTIMEZONE
TZID:America/New_York
BEGIN:DAYLIGHT
TZOFFSETFROM:-0500
TZOFFSETTO:-0400
TZNAME:EDT
DTSTART:20240310T070000
END:DAYLIGHT
BEGIN:STANDARD
TZOFFSETFROM:-0400
TZOFFSETTO:-0500
TZNAME:EST
DTSTART:20241103T060000
END:STANDARD
BEGIN:DAYLIGHT
TZOFFSETFROM:-0500
TZOFFSETTO:-0400
TZNAME:EDT
DTSTART:20250309T070000
END:DAYLIGHT
BEGIN:STANDARD
TZOFFSETFROM:-0400
TZOFFSETTO:-0500
TZNAME:EST
DTSTART:20251102T060000
END:STANDARD
BEGIN:DAYLIGHT
TZOFFSETFROM:-0500
TZOFFSETTO:-0400
TZNAME:EDT
DTSTART:20260308T070000
END:DAYLIGHT
BEGIN:STANDARD
TZOFFSETFROM:-0400
TZOFFSETTO:-0500
TZNAME:EST
DTSTART:20261101T060000
END:STANDARD
BEGIN:DAYLIGHT
TZOFFSETFROM:-0500
TZOFFSETTO:-0400
TZNAME:EDT
DTSTART:20270314T070000
END:DAYLIGHT
BEGIN:STANDARD
TZOFFSETFROM:-0400
TZOFFSETTO:-0500
TZNAME:EST
DTSTART:20271107T060000
END:STANDARD
END:VTIMEZONE
BEGIN:VEVENT
DTSTART;TZID=America/New_York:20251221T133000
DTEND;TZID=America/New_York:20251221T153000
DTSTAMP:20260423T202631
CREATED:20251126T171059Z
LAST-MODIFIED:20251126T171339Z
UID:5860-1766323800-1766331000@www.expandablebrassband.com
SUMMARY:First Night Rehearsal 12.21
DESCRIPTION:From 1:30-3:30pm. \nRehearsals are open to the public and potential band members. \nAlways check this page the day of the event for any last minute changes to the location. \n\nWe will rehearse in the band room. There are certain guidelines the school is requesting us to follow\, which we can go over at rehearsal\, such as not playing their piano or disturbing their equipment. \nNOTE: The only entrance that will be unlocked at the school is at the Aquatics Center (details on that exact location to follow).
URL:https://www.expandablebrassband.com/event/first-night-rehearsal-12-21/
LOCATION:JFK Middle School\, 100 Bridge Road\, Florence\, MA\, 100 Bridge Road\, Florence\, MA\, United States
END:VEVENT
BEGIN:VEVENT
DTSTART;TZID=America/New_York:20251231T140000
DTEND;TZID=America/New_York:20251231T154500
DTSTAMP:20260423T202631
CREATED:20251116T015124Z
LAST-MODIFIED:20251203T021444Z
UID:5837-1767189600-1767195900@www.expandablebrassband.com
SUMMARY:First Night Northampton
DESCRIPTION:Pulaski Park and parade from 2-2:45pm \nNorthampton Center for the Arts at 33 Hawley Street from 3-3:45pm \nParade to 33 Hawley Street \nLater that afternoon at 33 Hawley Street
URL:https://www.expandablebrassband.com/event/first-night-northampton/
LOCATION:Northampton Arts\, 33 Hawley Street\, Northampton\, MA\, United States
END:VEVENT
BEGIN:VEVENT
DTSTART;TZID=America/New_York:20260103T140000
DTEND;TZID=America/New_York:20260103T160000
DTSTAMP:20260423T202631
CREATED:20251216T211030Z
LAST-MODIFIED:20251216T211030Z
UID:5891-1767448800-1767456000@www.expandablebrassband.com
SUMMARY:Smith College Basketball
DESCRIPTION:The Expandable Brass Band will be performing during the Smith Bears game against the Bridgewater Bears! Come see which bear wins\, and listen to some fun tunes during the game!
URL:https://www.expandablebrassband.com/event/smith-college-basketball/
LOCATION:Ainsworth Gymnasium\, 102 Lower College Lane\, Northampton\, MA\, 01063\, United States
END:VEVENT
BEGIN:VEVENT
DTSTART;TZID=America/New_York:20260111T013000
DTEND;TZID=America/New_York:20260111T153000
DTSTAMP:20260423T202631
CREATED:20251126T171502Z
LAST-MODIFIED:20251217T142009Z
UID:5863-1768095000-1768145400@www.expandablebrassband.com
SUMMARY:Winter Rehearsal 1.11
DESCRIPTION:From 1:30-3:30pm. \nRehearsals are open to the public and potential band members. \nAlways check this page the day of the event for any last minute changes to the location. \n\nWe will rehearse in the band room. There are certain guidelines the school is requesting us to follow\, which we can go over at rehearsal\, such as not playing their piano or disturbing their equipment. \nNOTE: The only entrance that will be unlocked at the school is at the Aquatics Center (details on that exact location to follow).
URL:https://www.expandablebrassband.com/event/winter-rehearsal-1-11/
LOCATION:JFK Middle School\, 100 Bridge Road\, Florence\, MA\, 100 Bridge Road\, Florence\, MA\, United States
END:VEVENT
BEGIN:VEVENT
DTSTART;TZID=America/New_York:20260125T133000
DTEND;TZID=America/New_York:20260125T153000
DTSTAMP:20260423T202631
CREATED:20251126T172247Z
LAST-MODIFIED:20260124T001223Z
UID:5877-1769347800-1769355000@www.expandablebrassband.com
SUMMARY:CANCLED! Winter Rehearsal 1.25
DESCRIPTION:From 1:30-3:30pm. \nRehearsals are open to the public and potential band members. \nAlways check this page the day of the event for any last minute changes to the location. \n\nWe will rehearse in the band room. There are certain guidelines the school is requesting us to follow\, which we can go over at rehearsal\, such as not playing their piano or disturbing their equipment. \nNOTE: The only entrance that will be unlocked at the school is at the Aquatics Center (details on that exact location to follow).
URL:https://www.expandablebrassband.com/event/winter-rehearsal-1-25-2/
LOCATION:JFK Middle School\, 100 Bridge Road\, Florence\, MA\, 100 Bridge Road\, Florence\, MA\, United States
END:VEVENT
BEGIN:VEVENT
DTSTART;TZID=America/New_York:20260131T133000
DTEND;TZID=America/New_York:20260131T143000
DTSTAMP:20260423T202631
CREATED:20251219T024731Z
LAST-MODIFIED:20260131T143142Z
UID:5919-1769866200-1769869800@www.expandablebrassband.com
SUMMARY:Canceled Northampton Ice Sculpture
DESCRIPTION:It is too cold for us to play outdoors today.
URL:https://www.expandablebrassband.com/event/northampton-ice-sculpture/
LOCATION:Main and Pleasant\, 48 Main Street\, Northampton\, MA\, United States
END:VEVENT
BEGIN:VEVENT
DTSTART;TZID=America/New_York:20260208T133000
DTEND;TZID=America/New_York:20260208T153000
DTSTAMP:20260423T202631
CREATED:20251126T171728Z
LAST-MODIFIED:20251217T141853Z
UID:5867-1770557400-1770564600@www.expandablebrassband.com
SUMMARY:Winter Rehearsal 2.8
DESCRIPTION:From 1:30-3:30pm. \nRehearsals are open to the public and potential band members. \nAlways check this page the day of the event for any last minute changes to the location. \n\nWe will rehearse in the band room. There are certain guidelines the school is requesting us to follow\, which we can go over at rehearsal\, such as not playing their piano or disturbing their equipment. \nNOTE: The only entrance that will be unlocked at the school is at the Aquatics Center (details on that exact location to follow).
URL:https://www.expandablebrassband.com/event/winter-rehearsal-2-8/
LOCATION:JFK Middle School\, 100 Bridge Road\, Florence\, MA\, 100 Bridge Road\, Florence\, MA\, United States
END:VEVENT
BEGIN:VEVENT
DTSTART;TZID=America/New_York:20260222T133000
DTEND;TZID=America/New_York:20260222T153000
DTSTAMP:20260423T202631
CREATED:20251126T172441Z
LAST-MODIFIED:20251217T141754Z
UID:5879-1771767000-1771774200@www.expandablebrassband.com
SUMMARY:Winter Rehearsal 2.22
DESCRIPTION:From 1:30-3:30pm. \nRehearsals are open to the public and potential band members. \nAlways check this page the day of the event for any last minute changes to the location. \n\nWe will rehearse in the band room. There are certain guidelines the school is requesting us to follow\, which we can go over at rehearsal\, such as not playing their piano or disturbing their equipment. \nNOTE: The only entrance that will be unlocked at the school is at the Aquatics Center (details on that exact location to follow). \nScreenshot
URL:https://www.expandablebrassband.com/event/winter-rehearsal-2-22/
LOCATION:JFK Middle School\, 100 Bridge Road\, Florence\, MA\, 100 Bridge Road\, Florence\, MA\, United States
END:VEVENT
BEGIN:VEVENT
DTSTART;TZID=America/New_York:20260308T133000
DTEND;TZID=America/New_York:20260308T153000
DTSTAMP:20260423T202631
CREATED:20251126T171923Z
LAST-MODIFIED:20251217T141718Z
UID:5871-1772976600-1772983800@www.expandablebrassband.com
SUMMARY:Winter Rehearsal 3.8
DESCRIPTION:From 1:30-3:30pm. \nRehearsals are open to the public and potential band members. \nAlways check this page the day of the event for any last minute changes to the location. \n\nWe will rehearse in the band room. There are certain guidelines the school is requesting us to follow\, which we can go over at rehearsal\, such as not playing their piano or disturbing their equipment. \nNOTE: The only entrance that will be unlocked at the school is at the Aquatics Center (details on that exact location to follow). \nScreenshot
URL:https://www.expandablebrassband.com/event/winter-rehearsal-3-8/
LOCATION:JFK Middle School\, 100 Bridge Road\, Florence\, MA\, 100 Bridge Road\, Florence\, MA\, United States
END:VEVENT
BEGIN:VEVENT
DTSTART;TZID=America/New_York:20260314T110000
DTEND;TZID=America/New_York:20260314T130000
DTSTAMP:20260423T202631
CREATED:20260306T234433Z
LAST-MODIFIED:20260306T234616Z
UID:6107-1773486000-1773493200@www.expandablebrassband.com
SUMMARY:AOA Plunge for Adventure
DESCRIPTION:Plunge for Adventure fundraiser for All Out Adventures.   We will be providing music inspired by the plungers.
URL:https://www.expandablebrassband.com/event/aoa-plunge-for-adventure/
LOCATION:DAR State Forest\, 78 Cape Street\, Goshen\, MA\, 01032\, United States
END:VEVENT
BEGIN:VEVENT
DTSTART;TZID=America/New_York:20260321T115000
DTEND;TZID=America/New_York:20260321T140000
DTSTAMP:20260423T202631
CREATED:20260306T235525Z
LAST-MODIFIED:20260306T235525Z
UID:6113-1774093800-1774101600@www.expandablebrassband.com
SUMMARY:Holyoke St. Patrick Road Race
DESCRIPTION:We will be playing for the start of the race.
URL:https://www.expandablebrassband.com/event/holyoke-st-patrick-road-race/
LOCATION:Maple Street Holyoke\, 206 Maple Street\, Holyoke\, MA\, United States
END:VEVENT
BEGIN:VEVENT
DTSTART;TZID=America/New_York:20260322T133000
DTEND;TZID=America/New_York:20260322T153000
DTSTAMP:20260423T202631
CREATED:20251126T172013Z
LAST-MODIFIED:20251217T141645Z
UID:5873-1774186200-1774193400@www.expandablebrassband.com
SUMMARY:Winter Rehearsal 3.22
DESCRIPTION:From 1:30-3:30pm. \nRehearsals are open to the public and potential band members. \nAlways check this page the day of the event for any last minute changes to the location. \n\nWe will rehearse in the band room. There are certain guidelines the school is requesting us to follow\, which we can go over at rehearsal\, such as not playing their piano or disturbing their equipment. \nNOTE: The only entrance that will be unlocked at the school is at the Aquatics Center (details on that exact location to follow). \nScreenshot
URL:https://www.expandablebrassband.com/event/winter-rehearsal-3-22/
LOCATION:JFK Middle School\, 100 Bridge Road\, Florence\, MA\, 100 Bridge Road\, Florence\, MA\, United States
END:VEVENT
BEGIN:VEVENT
DTSTART;TZID=America/New_York:20260411T160000
DTEND;TZID=America/New_York:20260411T170000
DTSTAMP:20260423T202631
CREATED:20260407T202927Z
LAST-MODIFIED:20260407T202927Z
UID:6220-1775923200-1775926800@www.expandablebrassband.com
SUMMARY:Festival of Languages & Dialects
DESCRIPTION:The Expandable Brass Band will be playing music as the parade moves from UMass Amherst to the Amherst Common starting around 4pm. \nThe festival brings together different language communities and tries to create solidarity among them through a fun and memorable experience.
URL:https://www.expandablebrassband.com/event/festival-of-languages-dialects/
LOCATION:WEB Du Bois Library\, UMass Amherst\, 154 Hicks Way\, Amherst\, MA\, 01003\, United States
END:VEVENT
BEGIN:VEVENT
DTSTART;TZID=America/New_York:20260412T133000
DTEND;TZID=America/New_York:20260412T153000
DTSTAMP:20260423T202631
CREATED:20251126T172109Z
LAST-MODIFIED:20260124T001143Z
UID:5875-1776000600-1776007800@www.expandablebrassband.com
SUMMARY:Winter Rehearsal 4.12
DESCRIPTION:From 1:30-3:30pm. \nRehearsals are open to the public and potential band members. \nAlways check this page the day of the event for any last minute changes to the location. \n\nWe will rehearse in the band room. There are certain guidelines the school is requesting us to follow\, which we can go over at rehearsal\, such as not playing their piano or disturbing their equipment. \nNOTE: The only entrance that will be unlocked at the school is at the Aquatics Center (details on that exact location to follow). \nEnter via the pool entrance in the back: \nScreenshot
URL:https://www.expandablebrassband.com/event/winter-rehearsal-4-12/
LOCATION:JFK Middle School\, 100 Bridge Road\, Florence\, MA\, 100 Bridge Road\, Florence\, MA\, United States
END:VEVENT
BEGIN:VEVENT
DTSTART;TZID=America/New_York:20260419T133000
DTEND;TZID=America/New_York:20260419T153000
DTSTAMP:20260423T202631
CREATED:20260329T200737Z
LAST-MODIFIED:20260416T193702Z
UID:6202-1776605400-1776612600@www.expandablebrassband.com
SUMMARY:Rehearsal 4.19
DESCRIPTION:From 1:30-3:30pm. \nRehearsals are open to the public and potential band members. \nAlways check this page the day of the event for any last minute changes to the location.
URL:https://www.expandablebrassband.com/event/rehearsal-4-19/
LOCATION:MIllside Pond\, Easthampton\, 2 Ferry Street\, Easthampton\, MA\, 01027\, United States
END:VEVENT
BEGIN:VEVENT
DTSTART;TZID=America/New_York:20260426T110000
DTEND;TZID=America/New_York:20260426T120000
DTSTAMP:20260423T202631
CREATED:20260323T161826Z
LAST-MODIFIED:20260323T161909Z
UID:6156-1777201200-1777204800@www.expandablebrassband.com
SUMMARY:Big Brothers Big Sisters 16th Annual Daffodil Run 5k/10k
DESCRIPTION:
URL:https://www.expandablebrassband.com/event/big-brothers-big-sisters-16th-annual-daffodil-run-5k-10k/
LOCATION:Amherst Common\, Amherst\, MA\, 01002\, United States
END:VEVENT
BEGIN:VEVENT
DTSTART;VALUE=DATE:20260502
DTEND;VALUE=DATE:20260503
DTSTAMP:20260423T202631
CREATED:20260317T174150Z
LAST-MODIFIED:20260317T181132Z
UID:6134-1777680000-1777766399@www.expandablebrassband.com
SUMMARY:Northampton Pride
DESCRIPTION:
URL:https://www.expandablebrassband.com/event/northampton-pride/
LOCATION:Shelden Field\, Northampton\, 26 Old Ferry Rd\, Northampton\, 01060\, United States
END:VEVENT
BEGIN:VEVENT
DTSTART;TZID=America/New_York:20260503T083000
DTEND;TZID=America/New_York:20260503T100000
DTSTAMP:20260423T202631
CREATED:20260317T173726Z
LAST-MODIFIED:20260317T173726Z
UID:6131-1777797000-1777802400@www.expandablebrassband.com
SUMMARY:Treehouse Runway 5k fundraiser
DESCRIPTION:
URL:https://www.expandablebrassband.com/event/treehouse-runway-5k-fundraiser/
LOCATION:Northampton Airport\, 160 Old Ferry Rd.\, Northamptoon\, MA\, United States
END:VEVENT
BEGIN:VEVENT
DTSTART;TZID=America/New_York:20260516T110000
DTEND;TZID=America/New_York:20260516T120000
DTSTAMP:20260423T202631
CREATED:20260403T203427Z
LAST-MODIFIED:20260403T203435Z
UID:6214-1778929200-1778932800@www.expandablebrassband.com
SUMMARY:Greenfield Bee Festival
DESCRIPTION:We’ll be performing at the Greenfield Bee Festival! Buzz on over and say hi!
URL:https://www.expandablebrassband.com/event/greenfield-bee-festival/
LOCATION:Court Square\, Greenfield\, Court Square\, Greenfield\, 01301\, United States
END:VEVENT
BEGIN:VEVENT
DTSTART;TZID=America/New_York:20260524T133000
DTEND;TZID=America/New_York:20260524T153000
DTSTAMP:20260423T202631
CREATED:20260329T201036Z
LAST-MODIFIED:20260416T193607Z
UID:6204-1779629400-1779636600@www.expandablebrassband.com
SUMMARY:Rehearsal May 24th
DESCRIPTION:From 1:30-3:30pm. \nRehearsals are open to the public and potential band members. \nAlways check this page the day of the event for any last minute changes to the location.
URL:https://www.expandablebrassband.com/event/rehearsal-may-24th/
LOCATION:Shelden Field\, Northampton\, 26 Old Ferry Rd\, Northampton\, 01060\, United States
END:VEVENT
END:VCALENDAR