BEGIN:VCALENDAR
VERSION:2.0
PRODID:-//The Expandable Brass Band - ECPv6.15.20//NONSGML v1.0//EN
CALSCALE:GREGORIAN
METHOD:PUBLISH
X-WR-CALNAME:The Expandable Brass Band
X-ORIGINAL-URL:https://www.expandablebrassband.com
X-WR-CALDESC:Events for The Expandable Brass Band
REFRESH-INTERVAL;VALUE=DURATION:PT1H
X-Robots-Tag:noindex
X-PUBLISHED-TTL:PT1H
BEGIN:VTIMEZONE
TZID:America/New_York
BEGIN:DAYLIGHT
TZOFFSETFROM:-0500
TZOFFSETTO:-0400
TZNAME:EDT
DTSTART:20240310T070000
END:DAYLIGHT
BEGIN:STANDARD
TZOFFSETFROM:-0400
TZOFFSETTO:-0500
TZNAME:EST
DTSTART:20241103T060000
END:STANDARD
BEGIN:DAYLIGHT
TZOFFSETFROM:-0500
TZOFFSETTO:-0400
TZNAME:EDT
DTSTART:20250309T070000
END:DAYLIGHT
BEGIN:STANDARD
TZOFFSETFROM:-0400
TZOFFSETTO:-0500
TZNAME:EST
DTSTART:20251102T060000
END:STANDARD
BEGIN:DAYLIGHT
TZOFFSETFROM:-0500
TZOFFSETTO:-0400
TZNAME:EDT
DTSTART:20260308T070000
END:DAYLIGHT
BEGIN:STANDARD
TZOFFSETFROM:-0400
TZOFFSETTO:-0500
TZNAME:EST
DTSTART:20261101T060000
END:STANDARD
END:VTIMEZONE
BEGIN:VEVENT
DTSTART;TZID=America/New_York:20251207T090000
DTEND;TZID=America/New_York:20251207T224500
DTSTAMP:20260423T132658
CREATED:20251030T153219Z
LAST-MODIFIED:20251030T153219Z
UID:5824-1765098000-1765147500@www.expandablebrassband.com
SUMMARY:Hot Chocolate Run 2025 for Safe Passage
DESCRIPTION:The Hot Chocolate Run is a community celebration of Safe Passage\, the Hampshire County organization addressing domestic violence.
URL:https://www.expandablebrassband.com/event/hot-chocolate-run-2025-for-safe-passage/
LOCATION:Corner of Crafts Ave. and Old South\, Northampton MA\, Corner of Crafts Ave. and Old South\, Northampton\, MA\, United States
END:VEVENT
END:VCALENDAR