BEGIN:VCALENDAR
VERSION:2.0
PRODID:-//The Expandable Brass Band - ECPv6.15.20//NONSGML v1.0//EN
CALSCALE:GREGORIAN
METHOD:PUBLISH
X-WR-CALNAME:The Expandable Brass Band
X-ORIGINAL-URL:https://www.expandablebrassband.com
X-WR-CALDESC:Events for The Expandable Brass Band
REFRESH-INTERVAL;VALUE=DURATION:PT1H
X-Robots-Tag:noindex
X-PUBLISHED-TTL:PT1H
BEGIN:VTIMEZONE
TZID:America/New_York
BEGIN:DAYLIGHT
TZOFFSETFROM:-0500
TZOFFSETTO:-0400
TZNAME:EDT
DTSTART:20240310T070000
END:DAYLIGHT
BEGIN:STANDARD
TZOFFSETFROM:-0400
TZOFFSETTO:-0500
TZNAME:EST
DTSTART:20241103T060000
END:STANDARD
BEGIN:DAYLIGHT
TZOFFSETFROM:-0500
TZOFFSETTO:-0400
TZNAME:EDT
DTSTART:20250309T070000
END:DAYLIGHT
BEGIN:STANDARD
TZOFFSETFROM:-0400
TZOFFSETTO:-0500
TZNAME:EST
DTSTART:20251102T060000
END:STANDARD
BEGIN:DAYLIGHT
TZOFFSETFROM:-0500
TZOFFSETTO:-0400
TZNAME:EDT
DTSTART:20260308T070000
END:DAYLIGHT
BEGIN:STANDARD
TZOFFSETFROM:-0400
TZOFFSETTO:-0500
TZNAME:EST
DTSTART:20261101T060000
END:STANDARD
END:VTIMEZONE
BEGIN:VEVENT
DTSTART;TZID=America/New_York:20251122T133000
DTEND;TZID=America/New_York:20251122T143000
DTSTAMP:20260423T150008
CREATED:20251116T014401Z
LAST-MODIFIED:20251117T205309Z
UID:5834-1763818200-1763821800@www.expandablebrassband.com
SUMMARY:Hartsbrook Holiday Fair
DESCRIPTION:
URL:https://www.expandablebrassband.com/event/hartsbrook-holiday-fair/
LOCATION:Hartsbrook School\, 193 Bay Rd.\, Hadley\, MA\, United States
END:VEVENT
END:VCALENDAR