BEGIN:VCALENDAR
VERSION:2.0
PRODID:-//The Expandable Brass Band - ECPv6.15.20//NONSGML v1.0//EN
CALSCALE:GREGORIAN
METHOD:PUBLISH
X-WR-CALNAME:The Expandable Brass Band
X-ORIGINAL-URL:https://www.expandablebrassband.com
X-WR-CALDESC:Events for The Expandable Brass Band
REFRESH-INTERVAL;VALUE=DURATION:PT1H
X-Robots-Tag:noindex
X-PUBLISHED-TTL:PT1H
BEGIN:VTIMEZONE
TZID:America/New_York
BEGIN:DAYLIGHT
TZOFFSETFROM:-0500
TZOFFSETTO:-0400
TZNAME:EDT
DTSTART:20240310T070000
END:DAYLIGHT
BEGIN:STANDARD
TZOFFSETFROM:-0400
TZOFFSETTO:-0500
TZNAME:EST
DTSTART:20241103T060000
END:STANDARD
BEGIN:DAYLIGHT
TZOFFSETFROM:-0500
TZOFFSETTO:-0400
TZNAME:EDT
DTSTART:20250309T070000
END:DAYLIGHT
BEGIN:STANDARD
TZOFFSETFROM:-0400
TZOFFSETTO:-0500
TZNAME:EST
DTSTART:20251102T060000
END:STANDARD
BEGIN:DAYLIGHT
TZOFFSETFROM:-0500
TZOFFSETTO:-0400
TZNAME:EDT
DTSTART:20260308T070000
END:DAYLIGHT
BEGIN:STANDARD
TZOFFSETFROM:-0400
TZOFFSETTO:-0500
TZNAME:EST
DTSTART:20261101T060000
END:STANDARD
END:VTIMEZONE
BEGIN:VEVENT
DTSTART;TZID=America/New_York:20251026T160000
DTEND;TZID=America/New_York:20251026T170000
DTSTAMP:20260423T150006
CREATED:20251022T132509Z
LAST-MODIFIED:20251022T132509Z
UID:5817-1761494400-1761498000@www.expandablebrassband.com
SUMMARY:Laurel Park Halloween Parade
DESCRIPTION:The Expandable Brass Band will be parading through the Laurel Park community on Sunday\, October 26.
URL:https://www.expandablebrassband.com/event/laurel-park-halloween-parade/
LOCATION:Laurel Park\, https://www.google.com/maps/place/Laurel+Park\,+Northampton\,+MA+01060/@42.358094\,-72.6442839\,979m/data=!3m2!1e3!4b1!4m6!3m5!1s0x89e6d6e986cc380b:0xb4773c4ee435d3c7!8m2!3d42.358094!4d-72.641709!16sg1tfb306z?entry=ttu&g_ep=EgoyMDI1MTAxNC4wIKXMDSoASAFQAw Northampton MA 001060 United States\, Northampton\, MA\, 001060\, United States
END:VEVENT
END:VCALENDAR