BEGIN:VCALENDAR
VERSION:2.0
PRODID:-//The Expandable Brass Band - ECPv6.15.20//NONSGML v1.0//EN
CALSCALE:GREGORIAN
METHOD:PUBLISH
X-WR-CALNAME:The Expandable Brass Band
X-ORIGINAL-URL:https://www.expandablebrassband.com
X-WR-CALDESC:Events for The Expandable Brass Band
REFRESH-INTERVAL;VALUE=DURATION:PT1H
X-Robots-Tag:noindex
X-PUBLISHED-TTL:PT1H
BEGIN:VTIMEZONE
TZID:America/New_York
BEGIN:DAYLIGHT
TZOFFSETFROM:-0500
TZOFFSETTO:-0400
TZNAME:EDT
DTSTART:20240310T070000
END:DAYLIGHT
BEGIN:STANDARD
TZOFFSETFROM:-0400
TZOFFSETTO:-0500
TZNAME:EST
DTSTART:20241103T060000
END:STANDARD
BEGIN:DAYLIGHT
TZOFFSETFROM:-0500
TZOFFSETTO:-0400
TZNAME:EDT
DTSTART:20250309T070000
END:DAYLIGHT
BEGIN:STANDARD
TZOFFSETFROM:-0400
TZOFFSETTO:-0500
TZNAME:EST
DTSTART:20251102T060000
END:STANDARD
BEGIN:DAYLIGHT
TZOFFSETFROM:-0500
TZOFFSETTO:-0400
TZNAME:EDT
DTSTART:20260308T070000
END:DAYLIGHT
BEGIN:STANDARD
TZOFFSETFROM:-0400
TZOFFSETTO:-0500
TZNAME:EST
DTSTART:20261101T060000
END:STANDARD
END:VTIMEZONE
BEGIN:VEVENT
DTSTART;TZID=America/New_York:20250906T140000
DTEND;TZID=America/New_York:20250906T150000
DTSTAMP:20260423T174635
CREATED:20250718T131045Z
LAST-MODIFIED:20250718T131045Z
UID:5652-1757167200-1757170800@www.expandablebrassband.com
SUMMARY:Franklin County Fair
DESCRIPTION:Short parade and set under tent.
URL:https://www.expandablebrassband.com/event/franklin-county-fair/
LOCATION:Greenfield County Fair\, 89 Wisdom Way\, Greenfield\, MA\, United States
END:VEVENT
END:VCALENDAR